Name | Last modified | Size | Description | |
---|---|---|---|---|
Parent Directory | - | |||
checksrc-summary.dcf | 03-Nov-2023 00:40 | 421 | ||
checksrc-out.txt | 03-Nov-2023 00:40 | 3.6K | ||
buildsrc-summary.dcf | 03-Nov-2023 00:40 | 414 | ||
buildsrc-out.txt | 03-Nov-2023 00:40 | 867 | ||
install-summary.dcf | 03-Nov-2023 00:40 | 254 | ||
install-out.txt | 03-Nov-2023 00:40 | 943 | ||