Index of /checkResults/3.18/bioc-LATEST/MethReg/raw-results/merida1
Name
Last modified
Size
Description
Parent Directory
-
buildsrc-summary.dcf
18-Apr-2024 00:37
344
buildsrc-out.txt
18-Apr-2024 00:37
1.1K
install-summary.dcf
18-Apr-2024 00:37
269
install-out.txt
18-Apr-2024 00:37
1.0K