Name | Last modified | Size | Description | |
---|---|---|---|---|
Parent Directory | - | |||
install-out.txt | 05-Mar-2024 01:37 | 1.0K | ||
install-summary.dcf | 05-Mar-2024 01:37 | 269 | ||
buildsrc-out.txt | 05-Mar-2024 01:37 | 816 | ||
buildsrc-summary.dcf | 05-Mar-2024 01:37 | 428 | ||
checksrc-out.txt | 05-Mar-2024 01:37 | 4.1K | ||
checksrc-summary.dcf | 05-Mar-2024 01:37 | 450 | ||
buildbin-out.txt | 05-Mar-2024 01:37 | 1.2K | ||
buildbin-summary.dcf | 05-Mar-2024 01:37 | 530 | ||