Index of /checkResults/3.18/bioc-LATEST/MatrixRider/raw-results/merida1

[ICO]NameLast modifiedSizeDescription

[DIR]Parent Directory  -  
[   ]install-summary.dcf18-Apr-2024 00:37 277  
[   ]buildsrc-summary.dcf18-Apr-2024 00:37 440  
[   ]checksrc-summary.dcf18-Apr-2024 00:37 466  
[   ]buildbin-summary.dcf18-Apr-2024 00:37 555  
[TXT]buildsrc-out.txt18-Apr-2024 00:37 862  
[TXT]checksrc-out.txt18-Apr-2024 00:37 4.1K 
[TXT]install-out.txt18-Apr-2024 00:37 4.9K 
[TXT]buildbin-out.txt18-Apr-2024 00:37 6.8K