Name | Last modified | Size | Description | |
---|---|---|---|---|
Parent Directory | - | |||
install-summary.dcf | 18-Apr-2024 00:36 | 267 | ||
install-out.txt | 18-Apr-2024 00:36 | 964 | ||
checksrc-summary.dcf | 18-Apr-2024 00:36 | 430 | ||
checksrc-out.txt | 18-Apr-2024 00:36 | 3.2K | ||
buildsrc-summary.dcf | 18-Apr-2024 00:36 | 430 | ||
buildsrc-out.txt | 18-Apr-2024 00:36 | 822 | ||