Name | Last modified | Size | Description | |
---|---|---|---|---|
Parent Directory | - | |||
install-out.txt | 18-Apr-2024 00:37 | 3.8K | ||
install-summary.dcf | 18-Apr-2024 00:37 | 270 | ||
buildsrc-out.txt | 18-Apr-2024 00:37 | 846 | ||
buildsrc-summary.dcf | 18-Apr-2024 00:37 | 428 | ||
checksrc-out.txt | 18-Apr-2024 00:37 | 6.2K | ||
checksrc-summary.dcf | 18-Apr-2024 00:37 | 450 | ||
buildbin-out.txt | 18-Apr-2024 00:37 | 7.3K | ||
buildbin-summary.dcf | 18-Apr-2024 00:37 | 531 | ||