Name | Last modified | Size | Description | |
---|---|---|---|---|
Parent Directory | - | |||
checksrc-out.txt | 18-Apr-2024 00:37 | 3.3K | ||
buildbin-out.txt | 18-Apr-2024 00:37 | 1.1K | ||
install-out.txt | 18-Apr-2024 00:37 | 962 | ||
buildsrc-out.txt | 18-Apr-2024 00:37 | 810 | ||
buildbin-summary.dcf | 18-Apr-2024 00:37 | 497 | ||
buildsrc-summary.dcf | 18-Apr-2024 00:37 | 439 | ||
checksrc-summary.dcf | 18-Apr-2024 00:37 | 435 | ||
install-summary.dcf | 18-Apr-2024 00:37 | 262 | ||