Name | Last modified | Size | Description | |
---|---|---|---|---|
Parent Directory | - | |||
install-summary.dcf | 18-Apr-2024 00:36 | 253 | ||
install-out.txt | 18-Apr-2024 00:36 | 951 | ||
checksrc-summary.dcf | 18-Apr-2024 00:36 | 402 | ||
checksrc-out.txt | 18-Apr-2024 00:36 | 3.3K | ||
buildsrc-summary.dcf | 18-Apr-2024 00:36 | 407 | ||
buildsrc-out.txt | 18-Apr-2024 00:36 | 785 | ||