Name | Last modified | Size | Description | |
---|---|---|---|---|
Parent Directory | - | |||
buildbin-out.txt | 18-Apr-2024 00:37 | 1.1K | ||
buildbin-summary.dcf | 18-Apr-2024 00:37 | 512 | ||
buildsrc-out.txt | 18-Apr-2024 00:37 | 795 | ||
buildsrc-summary.dcf | 18-Apr-2024 00:37 | 417 | ||
checksrc-out.txt | 18-Apr-2024 00:37 | 3.3K | ||
checksrc-summary.dcf | 18-Apr-2024 00:37 | 432 | ||
install-out.txt | 18-Apr-2024 00:37 | 1.0K | ||
install-summary.dcf | 18-Apr-2024 00:37 | 263 | ||