Name | Last modified | Size | Description | |
---|---|---|---|---|
Parent Directory | - | |||
checksrc-out.txt | 18-Apr-2024 00:36 | 5.2K | ||
buildbin-out.txt | 18-Apr-2024 00:36 | 1.0K | ||
install-out.txt | 18-Apr-2024 00:36 | 953 | ||
buildsrc-out.txt | 18-Apr-2024 00:36 | 861 | ||
buildbin-summary.dcf | 18-Apr-2024 00:36 | 496 | ||
buildsrc-summary.dcf | 18-Apr-2024 00:36 | 440 | ||
checksrc-summary.dcf | 18-Apr-2024 00:36 | 435 | ||
install-summary.dcf | 18-Apr-2024 00:36 | 262 | ||