Name | Last modified | Size | Description | |
---|---|---|---|---|
Parent Directory | - | |||
buildsrc-summary.dcf | 03-Nov-2023 00:40 | 330 | ||
buildsrc-out.txt | 03-Nov-2023 00:40 | 631 | ||
install-summary.dcf | 03-Nov-2023 00:40 | 249 | ||
install-out.txt | 03-Nov-2023 00:40 | 794 | ||
checksrc-out.txt | 26-Oct-2023 00:41 | 4.0K | ||
checksrc-summary.dcf | 26-Oct-2023 00:41 | 394 | ||