Name | Last modified | Size | Description | |
---|---|---|---|---|
Parent Directory | - | |||
buildsrc-out.txt | 18-Apr-2024 00:36 | 856 | ||
buildsrc-summary.dcf | 18-Apr-2024 00:36 | 406 | ||
checksrc-out.txt | 18-Apr-2024 00:36 | 3.3K | ||
checksrc-summary.dcf | 18-Apr-2024 00:36 | 410 | ||
install-out.txt | 18-Apr-2024 00:36 | 951 | ||
install-summary.dcf | 18-Apr-2024 00:36 | 252 | ||