Name | Last modified | Size | Description | |
---|---|---|---|---|
Parent Directory | - | |||
install-out.txt | 18-Apr-2024 00:36 | 928 | ||
install-summary.dcf | 18-Apr-2024 00:36 | 258 | ||
buildsrc-out.txt | 18-Apr-2024 00:36 | 797 | ||
buildsrc-summary.dcf | 18-Apr-2024 00:36 | 416 | ||
checksrc-out.txt | 18-Apr-2024 00:36 | 3.2K | ||
checksrc-summary.dcf | 18-Apr-2024 00:36 | 413 | ||