Index of /checkResults/3.18/bioc-LATEST/Glimma/raw-results/nebbiolo2

[ICO]NameLast modifiedSizeDescription

[DIR]Parent Directory  -  
[TXT]buildsrc-out.txt23-Feb-2024 01:35 802  
[   ]buildsrc-summary.dcf23-Feb-2024 01:35 415  
[TXT]checksrc-out.txt23-Feb-2024 01:35 4.0K 
[   ]checksrc-summary.dcf23-Feb-2024 01:35 410  
[TXT]install-out.txt23-Feb-2024 01:35 949  
[   ]install-summary.dcf23-Feb-2024 01:35 257