Back to Multiple platform build/check report for BioC 3.18:   simplified   long
ABCDEF[G]HIJKLMNOPQRSTUVWXYZ

This page was generated on 2023-11-30 11:37:37 -0500 (Thu, 30 Nov 2023).

HostnameOSArch (*)R versionInstalled pkgs
nebbiolo2Linux (Ubuntu 22.04.2 LTS)x86_644.3.2 Patched (2023-11-13 r85521) -- "Eye Holes" 4685
palomino4Windows Server 2022 Datacenterx644.3.2 (2023-10-31 ucrt) -- "Eye Holes" 4420
lconwaymacOS 12.7.1 Montereyx86_644.3.2 Patched (2023-11-01 r85457) -- "Eye Holes" 4439
Click on any hostname to see more info about the system (e.g. compilers)      (*) as reported by 'uname -p', except on Windows and Mac OS X

Package 830/2266HostnameOS / ArchINSTALLBUILDCHECKBUILD BIN
GenomicScores 2.14.1  (landing page)
Robert Castelo
Snapshot Date: 2023-11-29 14:05:05 -0500 (Wed, 29 Nov 2023)
git_url: https://git.bioconductor.org/packages/GenomicScores
git_branch: RELEASE_3_18
git_last_commit: 5396741
git_last_commit_date: 2023-10-31 13:49:06 -0500 (Tue, 31 Oct 2023)
nebbiolo2Linux (Ubuntu 22.04.2 LTS) / x86_64  OK    OK    OK  UNNEEDED, same version is already published
palomino4Windows Server 2022 Datacenter / x64  OK    OK    OK    OK  UNNEEDED, same version is already published
lconwaymacOS 12.7.1 Monterey / x86_64  OK    OK    OK    OK  UNNEEDED, same version is already published
kjohnson1macOS 13.6.1 Ventura / arm64see weekly results here

BUILD BIN results for GenomicScores on lconway


To the developers/maintainers of the GenomicScores package:
- Allow up to 24 hours (and sometimes 48 hours) for your latest push to git@git.bioconductor.org:packages/GenomicScores.git to reflect on this report. See Troubleshooting Build Report for more information.
- Use the following Renviron settings to reproduce errors and warnings.
- If 'R CMD check' started to fail recently on the Linux builder(s) over a missing dependency, add the missing dependency to 'Suggests:' in your DESCRIPTION file. See Renviron.bioc for more information.

raw results


Summary

Package: GenomicScores
Version: 2.14.1
Command: rm -rf GenomicScores.buildbin-libdir && mkdir GenomicScores.buildbin-libdir && /Users/biocbuild/BBS/utils/build-universal.sh GenomicScores_2.14.1.tar.gz /Library/Frameworks/R.framework/Resources/bin/R GenomicScores.buildbin-libdir
StartedAt: 2023-11-30 00:05:04 -0500 (Thu, 30 Nov 2023)
EndedAt: 2023-11-30 00:05:53 -0500 (Thu, 30 Nov 2023)
EllapsedTime: 48.8 seconds
RetCode: 0
Status:   OK  
PackageFile: GenomicScores_2.14.1.tgz
PackageFileSize: 2.979 MiB

Command output

##############################################################################
##############################################################################
###
### Running command:
###
###   rm -rf GenomicScores.buildbin-libdir && mkdir GenomicScores.buildbin-libdir && /Users/biocbuild/BBS/utils/build-universal.sh GenomicScores_2.14.1.tar.gz /Library/Frameworks/R.framework/Resources/bin/R GenomicScores.buildbin-libdir
###
##############################################################################
##############################################################################


>>>>>>> 
>>>>>>> INSTALLATION WITH 'R CMD INSTALL --preclean --no-multiarch --library=GenomicScores.buildbin-libdir GenomicScores_2.14.1.tar.gz'
>>>>>>> 

* installing *source* package ‘GenomicScores’ ...
** using staged installation
** R
** inst
** byte-compile and prepare package for lazy loading
** help
*** installing help indices
** building package indices
** installing vignettes
** testing if installed package can be loaded from temporary location
** testing if installed package can be loaded from final location
** testing if installed package keeps a record of temporary installation path
* DONE (GenomicScores)