Name | Last modified | Size | Description | |
---|---|---|---|---|
Parent Directory | - | |||
checksrc-out.txt | 18-Apr-2024 00:35 | 3.1K | ||
checksrc-summary.dcf | 18-Apr-2024 00:35 | 434 | ||
buildsrc-summary.dcf | 18-Apr-2024 00:35 | 433 | ||
buildsrc-out.txt | 18-Apr-2024 00:35 | 1.0K | ||
install-summary.dcf | 18-Apr-2024 00:35 | 269 | ||
install-out.txt | 18-Apr-2024 00:35 | 1.1K | ||