Name | Last modified | Size | Description | |
---|---|---|---|---|
Parent Directory | - | |||
install-summary.dcf | 18-Apr-2024 00:37 | 280 | ||
buildsrc-summary.dcf | 18-Apr-2024 00:37 | 443 | ||
checksrc-summary.dcf | 18-Apr-2024 00:37 | 464 | ||
buildbin-summary.dcf | 18-Apr-2024 00:37 | 561 | ||
buildsrc-out.txt | 18-Apr-2024 00:37 | 1.0K | ||
install-out.txt | 18-Apr-2024 00:37 | 1.1K | ||
buildbin-out.txt | 18-Apr-2024 00:37 | 1.2K | ||
checksrc-out.txt | 18-Apr-2024 00:37 | 3.2K | ||