Name | Last modified | Size | Description | |
---|---|---|---|---|
Parent Directory | - | |||
buildsrc-summary.dcf | 03-Nov-2023 00:40 | 345 | ||
buildsrc-out.txt | 03-Nov-2023 00:40 | 726 | ||
install-summary.dcf | 03-Nov-2023 00:40 | 269 | ||
install-out.txt | 03-Nov-2023 00:40 | 964 | ||
checksrc-summary.dcf | 26-Oct-2023 00:41 | 434 | ||
checksrc-out.txt | 26-Oct-2023 00:41 | 3.6K | ||