Name | Last modified | Size | Description | |
---|---|---|---|---|
Parent Directory | - | |||
buildsrc-out.txt | 03-Nov-2023 00:40 | 835 | ||
buildsrc-summary.dcf | 03-Nov-2023 00:40 | 407 | ||
checksrc-out.txt | 03-Nov-2023 00:40 | 1.5K | ||
checksrc-summary.dcf | 03-Nov-2023 00:40 | 413 | ||
install-out.txt | 03-Nov-2023 00:40 | 929 | ||
install-summary.dcf | 03-Nov-2023 00:40 | 250 | ||