Back to Multiple platform build/check report for BioC 3.18:   simplified   long
ABCDEF[G]HIJKLMNOPQRSTUVWXYZ

This page was generated on 2023-12-05 11:37:42 -0500 (Tue, 05 Dec 2023).

HostnameOSArch (*)R versionInstalled pkgs
nebbiolo2Linux (Ubuntu 22.04.2 LTS)x86_644.3.2 Patched (2023-11-13 r85521) -- "Eye Holes" 4688
palomino4Windows Server 2022 Datacenterx644.3.2 (2023-10-31 ucrt) -- "Eye Holes" 4421
lconwaymacOS 12.7.1 Montereyx86_644.3.2 Patched (2023-11-01 r85457) -- "Eye Holes" 4440
Click on any hostname to see more info about the system (e.g. compilers)      (*) as reported by 'uname -p', except on Windows and Mac OS X

Package 894/2266HostnameOS / ArchINSTALLBUILDCHECKBUILD BIN
GRaNIE 1.6.1  (landing page)
Christian Arnold
Snapshot Date: 2023-12-04 14:05:07 -0500 (Mon, 04 Dec 2023)
git_url: https://git.bioconductor.org/packages/GRaNIE
git_branch: RELEASE_3_18
git_last_commit: 35f2aa9
git_last_commit_date: 2023-10-26 11:47:33 -0500 (Thu, 26 Oct 2023)
nebbiolo2Linux (Ubuntu 22.04.2 LTS) / x86_64  OK    OK    OK  UNNEEDED, same version is already published
palomino4Windows Server 2022 Datacenter / x64  OK    OK    WARNINGS    OK  UNNEEDED, same version is already published
lconwaymacOS 12.7.1 Monterey / x86_64  OK    OK    OK    OK  UNNEEDED, same version is already published
kjohnson1macOS 13.6.1 Ventura / arm64see weekly results here

CHECK results for GRaNIE on lconway


To the developers/maintainers of the GRaNIE package:
- Allow up to 24 hours (and sometimes 48 hours) for your latest push to git@git.bioconductor.org:packages/GRaNIE.git to reflect on this report. See Troubleshooting Build Report for more information.
- Use the following Renviron settings to reproduce errors and warnings.
- If 'R CMD check' started to fail recently on the Linux builder(s) over a missing dependency, add the missing dependency to 'Suggests:' in your DESCRIPTION file. See Renviron.bioc for more information.

raw results


Summary

Package: GRaNIE
Version: 1.6.1
Command: /Library/Frameworks/R.framework/Resources/bin/R CMD check --install=check:GRaNIE.install-out.txt --library=/Library/Frameworks/R.framework/Resources/library --no-vignettes --timings GRaNIE_1.6.1.tar.gz
StartedAt: 2023-12-04 20:28:57 -0500 (Mon, 04 Dec 2023)
EndedAt: 2023-12-04 20:39:30 -0500 (Mon, 04 Dec 2023)
EllapsedTime: 633.0 seconds
RetCode: 0
Status:   OK  
CheckDir: GRaNIE.Rcheck
Warnings: 0

Command output

##############################################################################
##############################################################################
###
### Running command:
###
###   /Library/Frameworks/R.framework/Resources/bin/R CMD check --install=check:GRaNIE.install-out.txt --library=/Library/Frameworks/R.framework/Resources/library --no-vignettes --timings GRaNIE_1.6.1.tar.gz
###
##############################################################################
##############################################################################


* using log directory ‘/Users/biocbuild/bbs-3.18-bioc/meat/GRaNIE.Rcheck’
* using R version 4.3.2 Patched (2023-11-01 r85457)
* using platform: x86_64-apple-darwin20 (64-bit)
* R was compiled by
    Apple clang version 14.0.3 (clang-1403.0.22.14.1)
    GNU Fortran (GCC) 12.2.0
* running under: macOS Monterey 12.7.1
* using session charset: UTF-8
* using option ‘--no-vignettes’
* checking for file ‘GRaNIE/DESCRIPTION’ ... OK
* this is package ‘GRaNIE’ version ‘1.6.1’
* package encoding: UTF-8
* checking package namespace information ... OK
* checking package dependencies ... OK
* checking if this is a source package ... OK
* checking if there is a namespace ... OK
* checking for hidden files and directories ... OK
* checking for portable file names ... OK
* checking for sufficient/correct file permissions ... OK
* checking whether package ‘GRaNIE’ can be installed ... OK
* checking installed package size ... OK
* checking package directory ... OK
* checking ‘build’ directory ... OK
* checking DESCRIPTION meta-information ... OK
* checking top-level files ... OK
* checking for left-over files ... OK
* checking index information ... OK
* checking package subdirectories ... OK
* checking R files for non-ASCII characters ... OK
* checking R files for syntax errors ... OK
* checking whether the package can be loaded ... OK
* checking whether the package can be loaded with stated dependencies ... OK
* checking whether the package can be unloaded cleanly ... OK
* checking whether the namespace can be loaded with stated dependencies ... OK
* checking whether the namespace can be unloaded cleanly ... OK
* checking startup messages can be suppressed ... OK
* checking dependencies in R code ... OK
* checking S3 generic/method consistency ... OK
* checking replacement functions ... OK
* checking foreign function calls ... OK
* checking R code for possible problems ... NOTE
.performIHW: no visible binding for global variable 'adj_pvalue'
Undefined global functions or variables:
  adj_pvalue
* checking Rd files ... OK
* checking Rd metadata ... OK
* checking Rd cross-references ... OK
* checking for missing documentation entries ... OK
* checking for code/documentation mismatches ... OK
* checking Rd \usage sections ... OK
* checking Rd contents ... OK
* checking for unstated dependencies in examples ... OK
* checking files in ‘vignettes’ ... OK
* checking examples ... OK
Examples with CPU (user + system) or elapsed time > 5s
                                 user system elapsed
addConnections_TF_peak         10.351  1.536  14.122
generateStatsSummary           10.532  0.445  11.224
addSNPData                      7.498  0.514  10.826
plotDiagnosticPlots_TFPeaks     6.955  0.381   7.537
plotDiagnosticPlots_peakGene    6.427  0.348   6.955
plotCommunitiesEnrichment       6.310  0.408   6.905
plotGeneralGraphStats           6.356  0.303   6.853
plotCommunitiesStats            6.334  0.308   6.839
plotPCA_all                     6.149  0.354   6.685
getGRNSummary                   5.778  0.311   6.257
add_TF_gene_correlation         5.649  0.409   6.284
plot_stats_connectionSummary    5.580  0.382   6.164
plotCorrelations                5.638  0.313   6.130
plotGeneralEnrichment           5.352  0.262   5.778
addConnections_peak_gene        5.119  0.407   5.785
filterData                      5.176  0.314   5.662
visualizeGRN                    5.182  0.287   5.637
filterGRNAndConnectGenes        5.112  0.319   5.639
calculateTFEnrichment           5.117  0.288   5.586
plotTFEnrichment                5.073  0.263   5.494
deleteIntermediateData          5.001  0.284   5.481
getCounts                       4.982  0.285   5.456
calculateGeneralEnrichment      4.977  0.286   5.433
calculateCommunitiesEnrichment  4.910  0.341   5.466
overlapPeaksAndTFBS             4.945  0.287   5.688
filterConnectionsForPlotting    4.920  0.288   5.386
changeOutputDirectory           4.905  0.291   5.375
getGRNConnections               4.898  0.291   5.366
getTopNodes                     4.873  0.303   5.359
getParameters                   4.860  0.269   5.319
nTFs                            4.823  0.283   5.296
nGenes                          4.820  0.267   5.266
nPeaks                          4.816  0.260   5.254
build_eGRN_graph                4.689  0.352   5.268
calculateCommunitiesStats       4.702  0.265   5.148
* checking for unstated dependencies in vignettes ... OK
* checking package vignettes in ‘inst/doc’ ... OK
* checking running R code from vignettes ... SKIPPED
* checking re-building of vignette outputs ... SKIPPED
* checking PDF version of manual ... OK
* DONE

Status: 1 NOTE
See
  ‘/Users/biocbuild/bbs-3.18-bioc/meat/GRaNIE.Rcheck/00check.log’
for details.



Installation output

GRaNIE.Rcheck/00install.out

##############################################################################
##############################################################################
###
### Running command:
###
###   /Library/Frameworks/R.framework/Resources/bin/R CMD INSTALL GRaNIE
###
##############################################################################
##############################################################################


* installing to library ‘/Library/Frameworks/R.framework/Versions/4.3-x86_64/Resources/library’
* installing *source* package ‘GRaNIE’ ...
** using staged installation
** R
** byte-compile and prepare package for lazy loading
** help
*** installing help indices
** building package indices
** installing vignettes
** testing if installed package can be loaded from temporary location
** testing if installed package can be loaded from final location
** testing if installed package keeps a record of temporary installation path
* DONE (GRaNIE)

Tests output


Example timings

GRaNIE.Rcheck/GRaNIE-Ex.timings

nameusersystemelapsed
AR_classification_wrapper000
addConnections_TF_peak10.351 1.53614.122
addConnections_peak_gene5.1190.4075.785
addData000
addSNPData 7.498 0.51410.826
addTFBS0.0010.0010.000
add_TF_gene_correlation5.6490.4096.284
add_featureVariation0.0000.0000.001
build_eGRN_graph4.6890.3525.268
calculateCommunitiesEnrichment4.9100.3415.466
calculateCommunitiesStats4.7020.2655.148
calculateGeneralEnrichment4.9770.2865.433
calculateTFEnrichment5.1170.2885.586
changeOutputDirectory4.9050.2915.375
deleteIntermediateData5.0010.2845.481
filterConnectionsForPlotting4.9200.2885.386
filterData5.1760.3145.662
filterGRNAndConnectGenes5.1120.3195.639
generateStatsSummary10.532 0.44511.224
getCounts4.9820.2855.456
getGRNConnections4.8980.2915.366
getGRNSummary5.7780.3116.257
getParameters4.8600.2695.319
getTopNodes4.8730.3035.359
initializeGRN0.0230.0020.025
loadExampleObject4.1440.2644.582
nGenes4.8200.2675.266
nPeaks4.8160.2605.254
nTFs4.8230.2835.296
overlapPeaksAndTFBS4.9450.2875.688
performAllNetworkAnalyses0.0000.0010.000
plotCommunitiesEnrichment6.3100.4086.905
plotCommunitiesStats6.3340.3086.839
plotCorrelations5.6380.3136.130
plotDiagnosticPlots_TFPeaks6.9550.3817.537
plotDiagnosticPlots_peakGene6.4270.3486.955
plotGeneralEnrichment5.3520.2625.778
plotGeneralGraphStats6.3560.3036.853
plotPCA_all6.1490.3546.685
plotTFEnrichment5.0730.2635.494
plot_stats_connectionSummary5.5800.3826.164
visualizeGRN5.1820.2875.637