Index of /checkResults/3.18/bioc-LATEST/GOpro/raw-results/palomino4

[ICO]NameLast modifiedSizeDescription

[DIR]Parent Directory  -  
[TXT]buildbin-out.txt23-Feb-2024 01:36 2.4K 
[   ]buildbin-summary.dcf23-Feb-2024 01:36 503  
[TXT]buildsrc-out.txt23-Feb-2024 01:36 1.1K 
[   ]buildsrc-summary.dcf23-Feb-2024 01:36 444  
[TXT]checksrc-out.txt23-Feb-2024 01:36 4.3K 
[   ]checksrc-summary.dcf23-Feb-2024 01:36 439  
[TXT]install-out.txt23-Feb-2024 01:36 2.3K 
[   ]install-summary.dcf23-Feb-2024 01:36 264