Name | Last modified | Size | Description | |
---|---|---|---|---|
Parent Directory | - | |||
buildbin-out.txt | 18-Apr-2024 00:36 | 1.0K | ||
buildbin-summary.dcf | 18-Apr-2024 00:36 | 491 | ||
buildsrc-out.txt | 18-Apr-2024 00:36 | 856 | ||
buildsrc-summary.dcf | 18-Apr-2024 00:36 | 436 | ||
checksrc-out.txt | 18-Apr-2024 00:36 | 3.2K | ||
checksrc-summary.dcf | 18-Apr-2024 00:36 | 430 | ||
install-out.txt | 18-Apr-2024 00:36 | 950 | ||
install-summary.dcf | 18-Apr-2024 00:36 | 260 | ||