Name | Last modified | Size | Description | |
---|---|---|---|---|
Parent Directory | - | |||
buildbin-out.txt | 18-Apr-2024 00:37 | 1.1K | ||
buildbin-summary.dcf | 18-Apr-2024 00:37 | 506 | ||
buildsrc-out.txt | 18-Apr-2024 00:37 | 840 | ||
buildsrc-summary.dcf | 18-Apr-2024 00:37 | 415 | ||
checksrc-out.txt | 18-Apr-2024 00:37 | 3.2K | ||
checksrc-summary.dcf | 18-Apr-2024 00:37 | 428 | ||
install-out.txt | 18-Apr-2024 00:37 | 1.0K | ||
install-summary.dcf | 18-Apr-2024 00:37 | 261 | ||