Name | Last modified | Size | Description | |
---|---|---|---|---|
Parent Directory | - | |||
checksrc-out.txt | 03-Nov-2023 00:40 | 3.2K | ||
install-out.txt | 03-Nov-2023 00:40 | 928 | ||
buildsrc-out.txt | 03-Nov-2023 00:40 | 824 | ||
checksrc-summary.dcf | 03-Nov-2023 00:40 | 400 | ||
buildsrc-summary.dcf | 03-Nov-2023 00:40 | 399 | ||
install-summary.dcf | 03-Nov-2023 00:40 | 244 | ||