Index of /checkResults/3.18/bioc-LATEST/FunChIP/raw-results/nebbiolo2

[ICO]NameLast modifiedSizeDescription

[DIR]Parent Directory  -  
[TXT]buildsrc-out.txt23-Feb-2024 01:35 1.1K 
[   ]buildsrc-summary.dcf23-Feb-2024 01:35 415  
[TXT]checksrc-out.txt23-Feb-2024 01:35 4.9K 
[   ]checksrc-summary.dcf23-Feb-2024 01:35 420  
[TXT]install-out.txt23-Feb-2024 01:35 4.8K 
[   ]install-summary.dcf23-Feb-2024 01:35 259