Name | Last modified | Size | Description | |
---|---|---|---|---|
Parent Directory | - | |||
buildsrc-out.txt | 03-Nov-2023 00:40 | 1.1K | ||
buildsrc-summary.dcf | 03-Nov-2023 00:40 | 412 | ||
checksrc-out.txt | 03-Nov-2023 00:40 | 4.4K | ||
checksrc-summary.dcf | 03-Nov-2023 00:40 | 423 | ||
install-out.txt | 03-Nov-2023 00:40 | 4.7K | ||
install-summary.dcf | 03-Nov-2023 00:40 | 253 | ||