Name | Last modified | Size | Description | |
---|---|---|---|---|
Parent Directory | - | |||
buildsrc-out.txt | 03-Nov-2023 00:40 | 820 | ||
buildsrc-summary.dcf | 03-Nov-2023 00:40 | 426 | ||
checksrc-out.txt | 03-Nov-2023 00:40 | 3.4K | ||
checksrc-summary.dcf | 03-Nov-2023 00:40 | 437 | ||
install-out.txt | 03-Nov-2023 00:40 | 955 | ||
install-summary.dcf | 03-Nov-2023 00:40 | 262 | ||