Index of /checkResults/3.18/bioc-LATEST/FELLA/raw-results/palomino4

[ICO]NameLast modifiedSizeDescription

[DIR]Parent Directory  -  
[TXT]buildbin-out.txt23-Mar-2024 00:36 1.1K 
[   ]buildbin-summary.dcf23-Mar-2024 00:36 502  
[TXT]buildsrc-out.txt30-Mar-2024 00:36 4.4K 
[   ]buildsrc-summary.dcf30-Mar-2024 00:36 364  
[TXT]checksrc-out.txt23-Mar-2024 00:36 3.7K 
[   ]checksrc-summary.dcf23-Mar-2024 00:36 439  
[TXT]install-out.txt30-Mar-2024 00:36 965  
[   ]install-summary.dcf30-Mar-2024 00:36 264