Name | Last modified | Size | Description | |
---|---|---|---|---|
Parent Directory | - | |||
buildbin-out.txt | 21-Mar-2024 00:37 | 1.1K | ||
buildbin-summary.dcf | 21-Mar-2024 00:37 | 518 | ||
buildsrc-out.txt | 18-Apr-2024 00:37 | 647 | ||
buildsrc-summary.dcf | 18-Apr-2024 00:37 | 346 | ||
checksrc-out.txt | 21-Mar-2024 00:37 | 3.8K | ||
checksrc-summary.dcf | 21-Mar-2024 00:37 | 436 | ||
install-out.txt | 18-Apr-2024 00:37 | 1.0K | ||
install-summary.dcf | 18-Apr-2024 00:37 | 265 | ||