Name | Last modified | Size | Description | |
---|---|---|---|---|
Parent Directory | - | |||
install-summary.dcf | 03-Nov-2023 00:40 | 249 | ||
install-out.txt | 03-Nov-2023 00:40 | 942 | ||
checksrc-summary.dcf | 09-Jul-2023 00:39 | 399 | ||
checksrc-out.txt | 09-Jul-2023 00:39 | 7.9K | ||
buildsrc-summary.dcf | 03-Nov-2023 00:40 | 330 | ||
buildsrc-out.txt | 03-Nov-2023 00:40 | 631 | ||