Name | Last modified | Size | Description | |
---|---|---|---|---|
Parent Directory | - | |||
buildbin-out.txt | 18-Apr-2024 00:36 | 1.1K | ||
buildbin-summary.dcf | 18-Apr-2024 00:36 | 551 | ||
buildsrc-out.txt | 18-Apr-2024 00:36 | 869 | ||
buildsrc-summary.dcf | 18-Apr-2024 00:36 | 476 | ||
checksrc-out.txt | 18-Apr-2024 00:36 | 5.5K | ||
checksrc-summary.dcf | 18-Apr-2024 00:36 | 477 | ||
install-out.txt | 18-Apr-2024 00:36 | 971 | ||
install-summary.dcf | 18-Apr-2024 00:36 | 280 | ||