Name | Last modified | Size | Description | |
---|---|---|---|---|
Parent Directory | - | |||
checksrc-out.txt | 26-Oct-2023 00:41 | 5.6K | ||
install-out.txt | 03-Nov-2023 00:40 | 950 | ||
buildsrc-out.txt | 03-Nov-2023 00:40 | 655 | ||
checksrc-summary.dcf | 26-Oct-2023 00:41 | 432 | ||
buildsrc-summary.dcf | 03-Nov-2023 00:40 | 346 | ||
install-summary.dcf | 03-Nov-2023 00:40 | 265 | ||