Name | Last modified | Size | Description | |
---|---|---|---|---|
Parent Directory | - | |||
checksrc-out.txt | 18-Apr-2024 00:36 | 3.5K | ||
buildbin-out.txt | 18-Apr-2024 00:36 | 1.1K | ||
install-out.txt | 18-Apr-2024 00:36 | 959 | ||
buildsrc-out.txt | 18-Apr-2024 00:36 | 833 | ||
buildbin-summary.dcf | 18-Apr-2024 00:36 | 506 | ||
buildsrc-summary.dcf | 18-Apr-2024 00:36 | 447 | ||
checksrc-summary.dcf | 18-Apr-2024 00:36 | 441 | ||
install-summary.dcf | 18-Apr-2024 00:36 | 265 | ||