Name | Last modified | Size | Description | |
---|---|---|---|---|
Parent Directory | - | |||
buildbin-summary.dcf | 05-Mar-2024 01:37 | 521 | ||
buildbin-out.txt | 05-Mar-2024 01:37 | 1.1K | ||
checksrc-out.txt | 05-Mar-2024 01:37 | 3.6K | ||
checksrc-summary.dcf | 05-Mar-2024 01:37 | 438 | ||
buildsrc-summary.dcf | 05-Mar-2024 01:37 | 423 | ||
buildsrc-out.txt | 05-Mar-2024 01:37 | 811 | ||
install-summary.dcf | 05-Mar-2024 01:37 | 266 | ||
install-out.txt | 05-Mar-2024 01:37 | 1.0K | ||