Name | Last modified | Size | Description | |
---|---|---|---|---|
Parent Directory | - | |||
install-summary.dcf | 03-Nov-2023 00:40 | 247 | ||
buildsrc-summary.dcf | 03-Nov-2023 00:40 | 328 | ||
checksrc-summary.dcf | 06-Oct-2023 00:40 | 398 | ||
buildsrc-out.txt | 03-Nov-2023 00:40 | 628 | ||
install-out.txt | 03-Nov-2023 00:40 | 931 | ||
checksrc-out.txt | 06-Oct-2023 00:40 | 5.7K | ||