Back to Multiple platform build/check report for BioC 3.18:   simplified   long
ABCD[E]FGHIJKLMNOPQRSTUVWXYZ

This page was generated on 2023-12-01 11:37:35 -0500 (Fri, 01 Dec 2023).

HostnameOSArch (*)R versionInstalled pkgs
nebbiolo2Linux (Ubuntu 22.04.2 LTS)x86_644.3.2 Patched (2023-11-13 r85521) -- "Eye Holes" 4685
palomino4Windows Server 2022 Datacenterx644.3.2 (2023-10-31 ucrt) -- "Eye Holes" 4420
lconwaymacOS 12.7.1 Montereyx86_644.3.2 Patched (2023-11-01 r85457) -- "Eye Holes" 4439
Click on any hostname to see more info about the system (e.g. compilers)      (*) as reported by 'uname -p', except on Windows and Mac OS X

Package 674/2266HostnameOS / ArchINSTALLBUILDCHECKBUILD BIN
EWCE 1.10.2  (landing page)
Alan Murphy
Snapshot Date: 2023-11-30 14:05:06 -0500 (Thu, 30 Nov 2023)
git_url: https://git.bioconductor.org/packages/EWCE
git_branch: RELEASE_3_18
git_last_commit: 0413c77
git_last_commit_date: 2023-10-31 11:15:34 -0500 (Tue, 31 Oct 2023)
nebbiolo2Linux (Ubuntu 22.04.2 LTS) / x86_64  OK    OK    OK  UNNEEDED, same version is already published
palomino4Windows Server 2022 Datacenter / x64  OK    OK    OK    OK  UNNEEDED, same version is already published
lconwaymacOS 12.7.1 Monterey / x86_64  OK    OK    OK    OK  UNNEEDED, same version is already published
kjohnson1macOS 13.6.1 Ventura / arm64see weekly results here

BUILD BIN results for EWCE on lconway


To the developers/maintainers of the EWCE package:
- Allow up to 24 hours (and sometimes 48 hours) for your latest push to git@git.bioconductor.org:packages/EWCE.git to reflect on this report. See Troubleshooting Build Report for more information.
- Use the following Renviron settings to reproduce errors and warnings.
- If 'R CMD check' started to fail recently on the Linux builder(s) over a missing dependency, add the missing dependency to 'Suggests:' in your DESCRIPTION file. See Renviron.bioc for more information.

raw results


Summary

Package: EWCE
Version: 1.10.2
Command: rm -rf EWCE.buildbin-libdir && mkdir EWCE.buildbin-libdir && /Users/biocbuild/BBS/utils/build-universal.sh EWCE_1.10.2.tar.gz /Library/Frameworks/R.framework/Resources/bin/R EWCE.buildbin-libdir
StartedAt: 2023-12-01 00:06:23 -0500 (Fri, 01 Dec 2023)
EndedAt: 2023-12-01 00:07:16 -0500 (Fri, 01 Dec 2023)
EllapsedTime: 53.4 seconds
RetCode: 0
Status:   OK  
PackageFile: EWCE_1.10.2.tgz
PackageFileSize: 2.689 MiB

Command output

##############################################################################
##############################################################################
###
### Running command:
###
###   rm -rf EWCE.buildbin-libdir && mkdir EWCE.buildbin-libdir && /Users/biocbuild/BBS/utils/build-universal.sh EWCE_1.10.2.tar.gz /Library/Frameworks/R.framework/Resources/bin/R EWCE.buildbin-libdir
###
##############################################################################
##############################################################################


>>>>>>> 
>>>>>>> INSTALLATION WITH 'R CMD INSTALL --preclean --no-multiarch --library=EWCE.buildbin-libdir EWCE_1.10.2.tar.gz'
>>>>>>> 

* installing *source* package ‘EWCE’ ...
** using staged installation
** R
** inst
** byte-compile and prepare package for lazy loading
** help
*** installing help indices
** building package indices
** installing vignettes
** testing if installed package can be loaded from temporary location
** testing if installed package can be loaded from final location
** testing if installed package keeps a record of temporary installation path
* DONE (EWCE)