Back to Multiple platform build/check report for BioC 3.18:   simplified   long
ABCD[E]FGHIJKLMNOPQRSTUVWXYZ

This page was generated on 2023-12-04 11:37:28 -0500 (Mon, 04 Dec 2023).

HostnameOSArch (*)R versionInstalled pkgs
nebbiolo2Linux (Ubuntu 22.04.2 LTS)x86_644.3.2 Patched (2023-11-13 r85521) -- "Eye Holes" 4686
palomino4Windows Server 2022 Datacenterx644.3.2 (2023-10-31 ucrt) -- "Eye Holes" 4421
lconwaymacOS 12.7.1 Montereyx86_644.3.2 Patched (2023-11-01 r85457) -- "Eye Holes" 4440
Click on any hostname to see more info about the system (e.g. compilers)      (*) as reported by 'uname -p', except on Windows and Mac OS X

Package 634/2266HostnameOS / ArchINSTALLBUILDCHECKBUILD BIN
EMDomics 2.32.0  (landing page)
Sadhika Malladi and Daniel Schmolze
Snapshot Date: 2023-12-03 14:05:05 -0500 (Sun, 03 Dec 2023)
git_url: https://git.bioconductor.org/packages/EMDomics
git_branch: RELEASE_3_18
git_last_commit: 0f54d25
git_last_commit_date: 2023-10-24 10:43:33 -0500 (Tue, 24 Oct 2023)
nebbiolo2Linux (Ubuntu 22.04.2 LTS) / x86_64  OK    OK    OK  UNNEEDED, same version is already published
palomino4Windows Server 2022 Datacenter / x64  OK    OK    OK    OK  UNNEEDED, same version is already published
lconwaymacOS 12.7.1 Monterey / x86_64  OK    OK    OK    OK  UNNEEDED, same version is already published
kjohnson1macOS 13.6.1 Ventura / arm64see weekly results here

BUILD results for EMDomics on lconway


To the developers/maintainers of the EMDomics package:
- Allow up to 24 hours (and sometimes 48 hours) for your latest push to git@git.bioconductor.org:packages/EMDomics.git to reflect on this report. See Troubleshooting Build Report for more information.
- Use the following Renviron settings to reproduce errors and warnings.
- If 'R CMD check' started to fail recently on the Linux builder(s) over a missing dependency, add the missing dependency to 'Suggests:' in your DESCRIPTION file. See Renviron.bioc for more information.

raw results


Summary

Package: EMDomics
Version: 2.32.0
Command: /Library/Frameworks/R.framework/Resources/bin/R CMD build --keep-empty-dirs --no-resave-data EMDomics
StartedAt: 2023-12-03 16:28:36 -0500 (Sun, 03 Dec 2023)
EndedAt: 2023-12-03 16:28:52 -0500 (Sun, 03 Dec 2023)
EllapsedTime: 15.9 seconds
RetCode: 0
Status:   OK  
PackageFile: EMDomics_2.32.0.tar.gz
PackageFileSize: 266.7 KiB

Command output

##############################################################################
##############################################################################
###
### Running command:
###
###   /Library/Frameworks/R.framework/Resources/bin/R CMD build --keep-empty-dirs --no-resave-data EMDomics
###
##############################################################################
##############################################################################


* checking for file ‘EMDomics/DESCRIPTION’ ... OK
* preparing ‘EMDomics’:
* checking DESCRIPTION meta-information ... OK
* installing the package to build vignettes
* creating vignettes ... OK
* checking for LF line-endings in source and make files and shell scripts
* checking for empty or unneeded directories
Omitted ‘LazyData’ from DESCRIPTION
* building ‘EMDomics_2.32.0.tar.gz’