Name | Last modified | Size | Description | |
---|---|---|---|---|
Parent Directory | - | |||
buildsrc-out.txt | 03-Nov-2023 00:40 | 797 | ||
buildsrc-summary.dcf | 03-Nov-2023 00:40 | 401 | ||
checksrc-out.txt | 03-Nov-2023 00:40 | 7.1K | ||
checksrc-summary.dcf | 03-Nov-2023 00:40 | 406 | ||
install-out.txt | 03-Nov-2023 00:40 | 14K | ||
install-summary.dcf | 03-Nov-2023 00:40 | 248 | ||