Name | Last modified | Size | Description | |
---|---|---|---|---|
Parent Directory | - | |||
buildbin-out.txt | 18-Apr-2024 00:36 | 9.0K | ||
install-out.txt | 18-Apr-2024 00:36 | 8.8K | ||
checksrc-out.txt | 18-Apr-2024 00:36 | 5.1K | ||
buildsrc-out.txt | 18-Apr-2024 00:36 | 936 | ||
buildbin-summary.dcf | 18-Apr-2024 00:36 | 522 | ||
buildsrc-summary.dcf | 18-Apr-2024 00:36 | 457 | ||
checksrc-summary.dcf | 18-Apr-2024 00:36 | 451 | ||
install-summary.dcf | 18-Apr-2024 00:36 | 271 | ||