Name | Last modified | Size | Description | |
---|---|---|---|---|
Parent Directory | - | |||
install-summary.dcf | 05-Mar-2024 01:37 | 272 | ||
buildsrc-summary.dcf | 05-Mar-2024 01:37 | 431 | ||
checksrc-summary.dcf | 05-Mar-2024 01:37 | 454 | ||
buildbin-summary.dcf | 05-Mar-2024 01:37 | 537 | ||
buildsrc-out.txt | 05-Mar-2024 01:37 | 913 | ||
checksrc-out.txt | 05-Mar-2024 01:37 | 5.4K | ||
install-out.txt | 05-Mar-2024 01:37 | 10K | ||
buildbin-out.txt | 05-Mar-2024 01:37 | 13K | ||