Name | Last modified | Size | Description | |
---|---|---|---|---|
Parent Directory | - | |||
checksrc-summary.dcf | 03-Nov-2023 00:40 | 425 | ||
checksrc-out.txt | 03-Nov-2023 00:40 | 16K | ||
buildsrc-summary.dcf | 03-Nov-2023 00:40 | 415 | ||
buildsrc-out.txt | 03-Nov-2023 00:40 | 897 | ||
install-summary.dcf | 03-Nov-2023 00:40 | 256 | ||
install-out.txt | 03-Nov-2023 00:40 | 7.3K | ||