Name | Last modified | Size | Description | |
---|---|---|---|---|
Parent Directory | - | |||
install-out.txt | 18-Apr-2024 00:36 | 1.0K | ||
install-summary.dcf | 18-Apr-2024 00:36 | 270 | ||
buildsrc-summary.dcf | 18-Apr-2024 00:36 | 457 | ||
buildsrc-out.txt | 18-Apr-2024 00:36 | 1.2K | ||
checksrc-out.txt | 18-Apr-2024 00:36 | 5.7K | ||
checksrc-summary.dcf | 18-Apr-2024 00:36 | 451 | ||
buildbin-out.txt | 18-Apr-2024 00:36 | 1.1K | ||
buildbin-summary.dcf | 18-Apr-2024 00:36 | 521 | ||