Name | Last modified | Size | Description | |
---|---|---|---|---|
Parent Directory | - | |||
install-summary.dcf | 18-Apr-2024 00:36 | 266 | ||
install-out.txt | 18-Apr-2024 00:36 | 1.5K | ||
checksrc-summary.dcf | 18-Apr-2024 00:36 | 442 | ||
checksrc-out.txt | 18-Apr-2024 00:36 | 4.7K | ||
buildsrc-summary.dcf | 18-Apr-2024 00:36 | 448 | ||
buildsrc-out.txt | 18-Apr-2024 00:36 | 866 | ||
buildbin-summary.dcf | 18-Apr-2024 00:36 | 509 | ||
buildbin-out.txt | 18-Apr-2024 00:36 | 1.6K | ||