Name | Last modified | Size | Description | |
---|---|---|---|---|
Parent Directory | - | |||
install-summary.dcf | 03-Nov-2023 00:40 | 251 | ||
install-out.txt | 03-Nov-2023 00:40 | 1.4K | ||
checksrc-summary.dcf | 03-Nov-2023 00:40 | 418 | ||
checksrc-out.txt | 03-Nov-2023 00:40 | 4.6K | ||
buildsrc-summary.dcf | 03-Nov-2023 00:40 | 408 | ||
buildsrc-out.txt | 03-Nov-2023 00:40 | 826 | ||