Index of /checkResults/3.18/bioc-LATEST/DEGseq/raw-results
Name
Last modified
Size
Description
Parent Directory
-
merida1/
18-Apr-2024 00:37
-
palomino4/
18-Apr-2024 00:36
-
nebbiolo2/
18-Apr-2024 00:35
-
info.dcf
18-Apr-2024 00:35
264
lconway/
05-Mar-2024 01:37
-
kunpeng2/
03-Nov-2023 00:40
-