Index of /checkResults/3.18/bioc-LATEST/CoreGx/raw-results

[ICO]NameLast modifiedSizeDescription

[DIR]Parent Directory  -  
[   ]info.dcf01-Dec-2023 01:37 288  
[DIR]kunpeng2/03-Nov-2023 00:40 -  
[DIR]lconway/01-Dec-2023 01:37 -  
[DIR]nebbiolo2/01-Dec-2023 01:35 -  
[DIR]palomino4/01-Dec-2023 01:36 -