Name | Last modified | Size | Description | |
---|---|---|---|---|
Parent Directory | - | |||
buildbin-out.txt | 18-Apr-2024 00:37 | 1.2K | ||
buildbin-summary.dcf | 18-Apr-2024 00:37 | 607 | ||
buildsrc-out.txt | 18-Apr-2024 00:37 | 868 | ||
buildsrc-summary.dcf | 18-Apr-2024 00:37 | 466 | ||
checksrc-out.txt | 18-Apr-2024 00:37 | 5.2K | ||
checksrc-summary.dcf | 18-Apr-2024 00:37 | 495 | ||
install-out.txt | 18-Apr-2024 00:37 | 1.0K | ||
install-summary.dcf | 18-Apr-2024 00:37 | 295 | ||