Index of /checkResults/3.18/bioc-LATEST/CoSIA/raw-results/merida1
Name
Last modified
Size
Description
Parent Directory
-
install-summary.dcf
18-Apr-2024 00:37
264
install-out.txt
18-Apr-2024 00:37
1.0K
buildsrc-out.txt
18-Apr-2024 00:37
1.8K
buildsrc-summary.dcf
18-Apr-2024 00:37
340