Name | Last modified | Size | Description | |
---|---|---|---|---|
Parent Directory | - | |||
buildbin-out.txt | 15-Nov-2023 01:37 | 1.1K | ||
buildbin-summary.dcf | 15-Nov-2023 01:37 | 515 | ||
buildsrc-out.txt | 05-Mar-2024 01:37 | 1.8K | ||
buildsrc-summary.dcf | 05-Mar-2024 01:37 | 339 | ||
checksrc-out.txt | 15-Nov-2023 01:37 | 3.9K | ||
checksrc-summary.dcf | 15-Nov-2023 01:37 | 434 | ||
install-out.txt | 05-Mar-2024 01:37 | 1.0K | ||
install-summary.dcf | 05-Mar-2024 01:37 | 264 | ||