Index of /checkResults/3.18/bioc-LATEST/CircSeqAlignTk/raw-results/kunpeng2
Name
Last modified
Size
Description
Parent Directory
-
install-summary.dcf
03-Nov-2023 00:40
268
buildsrc-summary.dcf
03-Nov-2023 00:40
339
install-out.txt
03-Nov-2023 00:40
638
buildsrc-out.txt
03-Nov-2023 00:40
918